BEGIN:VCALENDAR
VERSION:2.0
PRODID:-//Haasi kocht - ECPv6.10.3//NONSGML v1.0//EN
CALSCALE:GREGORIAN
METHOD:PUBLISH
X-ORIGINAL-URL:https://haasi-kocht.de
X-WR-CALDESC:Veranstaltungen für Haasi kocht
REFRESH-INTERVAL;VALUE=DURATION:PT1H
X-Robots-Tag:noindex
X-PUBLISHED-TTL:PT1H
BEGIN:VTIMEZONE
TZID:Europe/Berlin
BEGIN:DAYLIGHT
TZOFFSETFROM:+0100
TZOFFSETTO:+0200
TZNAME:CEST
DTSTART:20250330T010000
END:DAYLIGHT
BEGIN:STANDARD
TZOFFSETFROM:+0200
TZOFFSETTO:+0100
TZNAME:CET
DTSTART:20251026T010000
END:STANDARD
BEGIN:DAYLIGHT
TZOFFSETFROM:+0100
TZOFFSETTO:+0200
TZNAME:CEST
DTSTART:20260329T010000
END:DAYLIGHT
BEGIN:STANDARD
TZOFFSETFROM:+0200
TZOFFSETTO:+0100
TZNAME:CET
DTSTART:20261025T010000
END:STANDARD
END:VTIMEZONE
BEGIN:VEVENT
DTSTART;TZID=Europe/Berlin:20260320T153000
DTEND;TZID=Europe/Berlin:20260320T203000
DTSTAMP:20260423T031540
CREATED:20250918T111328Z
LAST-MODIFIED:20250918T112845Z
UID:10000072-1774020600-1774038600@haasi-kocht.de
SUMMARY:Glutenfreier Backkurs mit Martin Schmidt von grünesKorn
DESCRIPTION:Das erwartet euch:\nGlutenfreies Backen leicht gemacht!\nEntdecken Sie die Freude am glutenfreien Backen in unseren Kursen für Einsteiger!\nBäckermeister Martin Schmidt von der glutenfreien Bäckerei „grünesKorn“ aus Weingarten zeigt Ihnen Schritt für Schritt\, wie Sie köstliches Brot\, Brötchen und Süßes ohne Gluten backen können.\n\nIn unseren Kursen lernen Sie:\n\nDie Grundlagen des glutenfreien Backens\nDie Auswahl der richtigen Zutaten\nEinfache Teige und Techniken\nTipps und Tricks für perfektes Gelingen\n\nUnsere Kurse sind ideal für:\n\nMenschen mit Zöliakie oder Glutenunverträglichkeit\nEinsteiger\, die glutenfreies Backen lernen möchten\n\n\ninkl. Alkoholfreie Getränke
URL:https://haasi-kocht.de/event/glutenfreier-backkurs-20-03-2026/
LOCATION:Haasis Kochschule\, Sigebrandstraße 29\, Bad Wurzach\, 88410\, Deutschland
CATEGORIES:Backkurs
ATTACH;FMTTYPE=image/webp:https://haasi-kocht.de/wp-content/uploads/2023/02/DSC4430_web.webp
END:VEVENT
BEGIN:VEVENT
DTSTART;TZID=Europe/Berlin:20260306T173000
DTEND;TZID=Europe/Berlin:20260306T233000
DTSTAMP:20260423T031540
CREATED:20251218T110237Z
LAST-MODIFIED:20260127T143354Z
UID:10000077-1772818200-1772839800@haasi-kocht.de
SUMMARY:Haasis Klassischer Kochkurs
DESCRIPTION:Das erwartet euch:\nIn meinem Basic-Kochkurs lernt ihr die Grundlagen des Kochens kennen. Wir kochen gemeinsam ein 4-Gänge-Menü. In jedem Gang gibt es auch eine vegetarische Variante. Egal\, ob du ein Anfänger oder Fortgeschrittener bist\, dieser Kochkurs eignet sich für alle Hobbyköche. Ich freue mich auf euch! \n  \nDas ist dabei:\n4-Gänge-Menü mit \n\nVorspeise\nFisch / Vegetarische Variante\nFleisch / Vegetarische Variante\nDessert / Vegetarische Variante\n\ninkl. Getränken und Schürze
URL:https://haasi-kocht.de/event/haasis-klassischer-kochkurs_06-03-2026/
LOCATION:Haasis Kochschule\, Sigebrandstraße 29\, Bad Wurzach\, 88410\, Deutschland
CATEGORIES:Haasis Klassischer Kochkurs
ATTACH;FMTTYPE=image/webp:https://haasi-kocht.de/wp-content/uploads/2023/02/DSC4430_web.webp
END:VEVENT
BEGIN:VEVENT
DTSTART;TZID=Europe/Berlin:20260123T173000
DTEND;TZID=Europe/Berlin:20260123T213000
DTSTAMP:20260423T031540
CREATED:20251021T072217Z
LAST-MODIFIED:20260105T121935Z
UID:10000074-1769189400-1769203800@haasi-kocht.de
SUMMARY:Kochabend mit Einführung Dampfbackofen / Dampfgarer
DESCRIPTION:Das erwartet euch:\n\nIn unserem Kochkurs kreieren wir ein köstliches 3-Gänge-Menü mit Dampfzugabe oder Dampfgaren in jedem Gang.\nUnter professioneller Anleitung lernt ihr die vielseitigen Möglichkeiten dieser schonenden Zubereitungsart kennen\, bei der Vitamine und Aromen optimal erhalten bleiben.\nIm Kurspreis enthalten sind alle Getränke.\n\n\nIn diesem Kurs lernt ihr:\n\nEinweisung in die Ofenfunktionen mit Dampfzugabe\nErklärung des Dampfgarers\nEinweisung in die Funktionen zur Reinigung und Trocknung\nBesonderheiten von Dampfgaren und Dampfzugabe
URL:https://haasi-kocht.de/event/kochabend-mit-einfuehrung-dampfbackofen-dampfgarer_23-01-2026/
LOCATION:Haasis Kochschule\, Sigebrandstraße 29\, Bad Wurzach\, 88410\, Deutschland
CATEGORIES:Kochkurs mit Einführung Dampfbackofen / Dampfgarer
ATTACH;FMTTYPE=image/webp:https://haasi-kocht.de/wp-content/uploads/2023/02/DSC4430_web.webp
END:VEVENT
BEGIN:VEVENT
DTSTART;TZID=Europe/Berlin:20260116T173000
DTEND;TZID=Europe/Berlin:20260116T233000
DTSTAMP:20260423T031540
CREATED:20251024T073407Z
LAST-MODIFIED:20260105T121820Z
UID:10000075-1768584600-1768606200@haasi-kocht.de
SUMMARY:Biertasting mit Biersommelier Simon Fehr
DESCRIPTION:Das erwartet euch:\nWir kochen gemeinsam ein 4-Gänge-Menü\, das zu den Bieren passt\, die Simon vorstellt. Beim Biertasting lernt ihr 9 verschiedene Biere in gemütlicher Atomsphäre kennen. Es ist alles dabei\, was ein professionelles Biertasting ausmacht: die richtigen Gläser\, die richtige Reihenfolge der Biere\, die richtige Trinktemperatur und auch die Menge! Wir freuen uns auf euch! \n  \nDas ist dabei:\n\n9 verschiedene Biere zum Biertasting\nBier vom Fass\, Wasser\n4-Gänge-Menü\nSchürze\n\n\nTermine auch auf Anfrage für Gruppen\n(Kosten 1250€ Pauschal bis 12 Personen)
URL:https://haasi-kocht.de/event/biertasting-mit-biersommelier-simon-fehr_16-01-2026/
LOCATION:Haasis Kochschule\, Sigebrandstraße 29\, Bad Wurzach\, 88410\, Deutschland
CATEGORIES:Biertasting
ATTACH;FMTTYPE=image/webp:https://haasi-kocht.de/wp-content/uploads/2023/02/DSC4430_web.webp
END:VEVENT
BEGIN:VEVENT
DTSTART;TZID=Europe/Berlin:20251128T173000
DTEND;TZID=Europe/Berlin:20251128T233000
DTSTAMP:20260423T031540
CREATED:20250730T091307Z
LAST-MODIFIED:20250730T091307Z
UID:10000069-1764351000-1764372600@haasi-kocht.de
SUMMARY:Biertasting mit Biersommelier Simon Fehr
DESCRIPTION:Das erwartet euch:\nWir kochen gemeinsam ein 4-Gänge-Menü\, das zu den Bieren passt\, die Simon vorstellt. Beim Biertasting lernt ihr 9 verschiedene Biere in gemütlicher Atomsphäre kennen. Es ist alles dabei\, was ein professionelles Biertasting ausmacht: die richtigen Gläser\, die richtige Reihenfolge der Biere\, die richtige Trinktemperatur und auch die Menge! Wir freuen uns auf euch! \n  \nDas ist dabei:\n\n9 verschiedene Biere zum Biertasting\nBier vom Fass\, Wasser\n4-Gänge-Menü\nSchürze\n\n\nTermine auch auf Anfrage für Gruppen\n(Kosten 1250€ Pauschal bis 12 Personen)
URL:https://haasi-kocht.de/event/biertasting-mit-biersommelier-simon-fehr_28-11-2025/
LOCATION:Haasis Kochschule\, Sigebrandstraße 29\, Bad Wurzach\, 88410\, Deutschland
CATEGORIES:Biertasting
ATTACH;FMTTYPE=image/webp:https://haasi-kocht.de/wp-content/uploads/2023/02/DSC4430_web.webp
END:VEVENT
BEGIN:VEVENT
DTSTART;TZID=Europe/Berlin:20251024T153000
DTEND;TZID=Europe/Berlin:20251024T203000
DTSTAMP:20260423T031540
CREATED:20241216T121055Z
LAST-MODIFIED:20251021T084022Z
UID:10000052-1761319800-1761337800@haasi-kocht.de
SUMMARY:Glutenfreier Backkurs mit Martin Schmidt von grünesKorn
DESCRIPTION:Das erwartet euch:\nGlutenfreies Backen leicht gemacht!\nEntdecken Sie die Freude am glutenfreien Backen in unseren Kursen für Einsteiger!\nBäckermeister Martin Schmidt von der glutenfreien Bäckerei „grünesKorn“ aus Weingarten zeigt Ihnen Schritt für Schritt\, wie Sie köstliches Brot\, Brötchen und Süßes ohne Gluten backen können.\n\nIn unseren Kursen lernen Sie:\n\nDie Grundlagen des glutenfreien Backens\nDie Auswahl der richtigen Zutaten\nEinfache Teige und Techniken\nTipps und Tricks für perfektes Gelingen\n\nUnsere Kurse sind ideal für:\n\nMenschen mit Zöliakie oder Glutenunverträglichkeit\nEinsteiger\, die glutenfreies Backen lernen möchten\n\n\ninkl. Alkoholfreie Getränke
URL:https://haasi-kocht.de/event/glutenfreier-backkurs-mit-martin-schmidt-von-grueneskorn-24-10-2025/
LOCATION:Haasis Kochschule\, Sigebrandstraße 29\, Bad Wurzach\, 88410\, Deutschland
CATEGORIES:Backkurs
ATTACH;FMTTYPE=image/webp:https://haasi-kocht.de/wp-content/uploads/2023/02/DSC4430_web.webp
END:VEVENT
BEGIN:VEVENT
DTSTART;TZID=Europe/Berlin:20251004T130000
DTEND;TZID=Europe/Berlin:20251004T170000
DTSTAMP:20260423T031540
CREATED:20250826T090636Z
LAST-MODIFIED:20250826T090729Z
UID:10000071-1759582800-1759597200@haasi-kocht.de
SUMMARY:„Kaffee-Genuss zu Hause“ - Barista-Kurs-2 Siebträgermaschine „Grundwissen Espresso & Cappuccino“
DESCRIPTION:Das erwartet euch:\nDieser Kurs richtet sich an alle\, die mit einer Siebträgermaschine umgehen lernen möchten. Wir führen euch in die 8 wichtigsten Komponenten für die perfekte Espresso-Zubereitung ein und geben euch wertvolle Tipps vom Profi. Außerdem zeigen wir euch\, wie ihr Milch richtig aufschäumt\, um einen cremigen und feinen Milchschaum zu erhalten. Ihr übt die Zieh- und Rollphase und perfektioniert die Optik und den Geschmack eures Cappuccinos. Nach diesem Kurs seid ihr in der Lage\, auch zu Hause Barista-Qualität zu erreichen. \nDas ist dabei:\n\nGrundlagen der Espresso- und Cappuccino-Zubereitung mit der Siebträgermaschine\nAnleitung zum richtigen Aufschäumen von Milch\nPraktische Übungen zu Zieh- und Rollphase\nTipps für einen optisch und geschmacklich perfekten Cappuccino\nGetränke während des Kurses\nKursmaterialien\n\nKursleiter: Hans-Peter Luz\, SCAE zertifizierter Barista und Barista-Advanced-Bachelor
URL:https://haasi-kocht.de/event/barista_04-10-2025_2/
LOCATION:Haasis Kochschule\, Sigebrandstraße 29\, Bad Wurzach\, 88410\, Deutschland
CATEGORIES:Barista-Seminar
ATTACH;FMTTYPE=image/webp:https://haasi-kocht.de/wp-content/uploads/2023/02/DSC4430_web.webp
END:VEVENT
BEGIN:VEVENT
DTSTART;TZID=Europe/Berlin:20251004T080000
DTEND;TZID=Europe/Berlin:20251004T120000
DTSTAMP:20260423T031540
CREATED:20250826T090152Z
LAST-MODIFIED:20250826T090152Z
UID:10000070-1759564800-1759579200@haasi-kocht.de
SUMMARY:„Kaffee-Genuss zu Hause“ - Barista-Kurs-1 Klassisch und modern Handaufbrühen „Grundwissen Kaffee“
DESCRIPTION:Das erwartet euch:\nIhr lernt die Kunst des Handaufbrühens kennen und wie ihr zu Hause perfekten Kaffee zubereiten könnt. Wir zeigen euch\, worauf es bei der Zubereitung mit verschiedenen Geräten wie der French Press\, der Chemex-Kanne oder dem Hario-V60 ankommt. Dabei gehen wir auf die entscheidenden Faktoren ein\, die den Geschmack beeinflussen. Von der richtigen Brühtechnik bis zum idealen Mahlgrad – nach diesem Kurs wisst ihr genau\, wie ihr das Beste aus eurem Kaffee herausholt. \nDas ist dabei:\n\nGrundwissen über Brühkaffee und Handaufbrühmethoden\nPraktische Anleitung zur Zubereitung mit Pressstempelkanne\, Chemex und Hario-V60\nTipps für perfekten Kaffee-Genuss\nGetränke während des Kurses\nKursmaterialien\n\nKursleiter: Hans-Peter Luz\, SCAE zertifizierter Barista und Barista-Advanced-Bachelor
URL:https://haasi-kocht.de/event/barista_04-10-2025/
LOCATION:Haasis Kochschule\, Sigebrandstraße 29\, Bad Wurzach\, 88410\, Deutschland
CATEGORIES:Barista-Seminar
ATTACH;FMTTYPE=image/webp:https://haasi-kocht.de/wp-content/uploads/2023/02/DSC4430_web.webp
END:VEVENT
BEGIN:VEVENT
DTSTART;TZID=Europe/Berlin:20250926T173000
DTEND;TZID=Europe/Berlin:20250926T233000
DTSTAMP:20260423T031540
CREATED:20250701T073237Z
LAST-MODIFIED:20250701T073237Z
UID:10000068-1758907800-1758929400@haasi-kocht.de
SUMMARY:Biertasting mit Biersommelier Simon Fehr
DESCRIPTION:Das erwartet euch:\nWir kochen gemeinsam ein 4-Gänge-Menü\, das zu den Bieren passt\, die Simon vorstellt. Beim Biertasting lernt ihr 9 verschiedene Biere in gemütlicher Atomsphäre kennen. Es ist alles dabei\, was ein professionelles Biertasting ausmacht: die richtigen Gläser\, die richtige Reihenfolge der Biere\, die richtige Trinktemperatur und auch die Menge! Wir freuen uns auf euch! \n  \nDas ist dabei:\n\n9 verschiedene Biere zum Biertasting\nBier vom Fass\, Wasser\n4-Gänge-Menü\nSchürze\n\n\nTermine auch auf Anfrage für Gruppen\n(Kosten 1250€ Pauschal bis 12 Personen)
URL:https://haasi-kocht.de/event/biertasting-mit-biersommelier-simon-fehr_26-09-2025/
LOCATION:Haasis Kochschule\, Sigebrandstraße 29\, Bad Wurzach\, 88410\, Deutschland
CATEGORIES:Biertasting
ATTACH;FMTTYPE=image/webp:https://haasi-kocht.de/wp-content/uploads/2023/02/DSC4430_web.webp
END:VEVENT
END:VCALENDAR